BEGIN:VCALENDAR
VERSION:2.0
PRODID:-//Eczacılar Burada - ECPv6.11.2.1//NONSGML v1.0//EN
CALSCALE:GREGORIAN
METHOD:PUBLISH
X-ORIGINAL-URL:https://eczacilarburada.com
X-WR-CALDESC:Eczacılar Burada için etkinlikler
REFRESH-INTERVAL;VALUE=DURATION:PT1H
X-Robots-Tag:noindex
X-PUBLISHED-TTL:PT1H
BEGIN:VTIMEZONE
TZID:Europe/Istanbul
BEGIN:STANDARD
TZOFFSETFROM:+0300
TZOFFSETTO:+0300
TZNAME:+03
DTSTART:20240101T000000
END:STANDARD
END:VTIMEZONE
BEGIN:VEVENT
DTSTART;TZID=Europe/Istanbul:20240918T203000
DTEND;TZID=Europe/Istanbul:20240918T223000
DTSTAMP:20260426T031250
CREATED:20250419T220407Z
LAST-MODIFIED:20250419T220415Z
UID:10000130-1726691400-1726698600@eczacilarburada.com
SUMMARY:Pandemilerden M-Pox’a: Neler Öğrendik?
DESCRIPTION:18 Eylül Çarşamba günü 20.30’da gerçekleştirilecek Prof. Dr. Özgür Karcıoğlu ile gerçekleştireceğimiz Pandemilerden M-Pox’a: Neler Öğrendik etkinliğimize sizler de davetlisiniz!   \n\n\n\nOnline etkinliğimiz Ecz. Ahmet Turhaner moderatörlüğünde ilerleyecektir.  \n\n\n\nSizleri de kendi aklınızdaki bu sorulara cevap bulmaya ve kendinize yeni bilgiler katmaya davet ediyoruz .✨️ \n\n\n\nProgramımıza ücretsiz kaydolmak için etkinlik formunu doldur\, online etkinliği kaçırma!
URL:https://eczacilarburada.com/program/pandemilerden-m-poxa-neler-ogrendik/
CATEGORIES:E-Buluşmalar
ATTACH;FMTTYPE=image/png:https://eczacilarburada.com/wp-content/uploads/2025/04/Copy-of-Copy-of-Minimal-Photocentric-Productivity-Blog-Banner-3-4.png
END:VEVENT
BEGIN:VEVENT
DTSTART;TZID=Europe/Istanbul:20240925T203000
DTEND;TZID=Europe/Istanbul:20240925T223000
DTSTAMP:20260426T031250
CREATED:20250419T220407Z
LAST-MODIFIED:20250419T220422Z
UID:10000131-1727296200-1727303400@eczacilarburada.com
SUMMARY:Modern Eczacılıkta Eczacının Sağlık Danışmanı Rolü
DESCRIPTION:25 Eylül Çarşamba günü 20.30’da gerçekleştirilecek Uzm. Ecz. Sinem Güngör Bayar ile gerçekleştireceğimiz Modern Eczacılıkta Eczanın Sağlık Danışmanı Rolü etkinliğimize sizler de davetlisiniz!   \n\n\n\nSizleri de kendi aklınızdaki bu sorulara cevap bulmaya ve kendinize yeni bilgiler katmaya davet ediyoruz .✨️ \n\n\n\nProgramımıza ücretsiz kaydolmak için etkinlik formunu doldur\, online etkinliği kaçırma!
URL:https://eczacilarburada.com/program/modern-eczacilikta-eczacinin-saglik-danismani-rolu/
CATEGORIES:E-Buluşmalar
ATTACH;FMTTYPE=image/png:https://eczacilarburada.com/wp-content/uploads/2025/04/Copy-of-Copy-of-Minimal-Photocentric-Productivity-Blog-Banner-10.png
END:VEVENT
END:VCALENDAR