BEGIN:VCALENDAR
VERSION:2.0
PRODID:-//Eczacılar Burada - ECPv6.11.2.1//NONSGML v1.0//EN
CALSCALE:GREGORIAN
METHOD:PUBLISH
X-WR-CALNAME:Eczacılar Burada
X-ORIGINAL-URL:https://eczacilarburada.com
X-WR-CALDESC:Eczacılar Burada için etkinlikler
REFRESH-INTERVAL;VALUE=DURATION:PT1H
X-Robots-Tag:noindex
X-PUBLISHED-TTL:PT1H
BEGIN:VTIMEZONE
TZID:Europe/Istanbul
BEGIN:STANDARD
TZOFFSETFROM:+0300
TZOFFSETTO:+0300
TZNAME:+03
DTSTART:20250101T000000
END:STANDARD
END:VTIMEZONE
BEGIN:VEVENT
DTSTART;TZID=Europe/Istanbul:20250205T000000
DTEND;TZID=Europe/Istanbul:20250205T000000
DTSTAMP:20260425T185528
CREATED:20250419T221432Z
LAST-MODIFIED:20250422T075501Z
UID:10000029-1738713600-1738713600@eczacilarburada.com
SUMMARY:Afet Anında ve Sonrasında: Eczacıların Hayati Rolü
DESCRIPTION:6 Şubat Depremi’nin Yıl Dönümünde Eczacılar Olarak Bir Araya Geliyoruz!Eczacılar Burada ve Hatay Eczacı Odası İş BirliğiyleAfetler karşısında eczacıların rolünü tartışmak\, yaşanan deneyimlerden dersler çıkarmak ve geleceğe daha sağlam adımlarla yürümek için buluşuyoruz! Depremde yaşamını yitirenleri saygıyla anıyor\, sağlık hizmetlerinin kriz anlarında daha etkin hale gelmesi için birlikte düşünüyoruz.✨ Bu etkinlikte hangi sorulara yanıt arayacağız?❓ Afet zamanlarında eczacıların rolü ne olmalı?❓ Eczacılık öğrencileri afet farkındalığını nasıl artırabilir? ❓ Gelecekte benzer afetlere karşı nasıl daha dayanıklı bir sağlık sistemi kurabiliriz? ❓ Hatay’daki eczacılar deprem sürecinde hangi zorluklarla karşılaştı?❓ Afetlerin eczacılık sektörü üzerindeki etkileri nelerdir? ⚕️❓ Kriz anında sağlık hizmetleri nasıl organize edilmeli? Siz de bu önemli tartışmada bizimle olun!Tarih: 5 Şubat 2025Saat: 20.30Platform: Zoom
URL:https://eczacilarburada.com/program/afet-aninda-ve-sonrasinda-eczacilarin-hayati-rolu/
CATEGORIES:E-Buluşmalar
ATTACH;FMTTYPE=image/png:https://eczacilarburada.com/wp-content/uploads/2025/04/248798_679f89e1b229e_etkinlikresmi-2.png
END:VEVENT
BEGIN:VEVENT
DTSTART;TZID=Europe/Istanbul:20250226T203000
DTEND;TZID=Europe/Istanbul:20250226T203000
DTSTAMP:20260425T185528
CREATED:20250419T221446Z
LAST-MODIFIED:20250422T122036Z
UID:10000028-1740601800-1740601800@eczacilarburada.com
SUMMARY:Stajyer Buluşmaları – 1
DESCRIPTION:Eczacılık öğrencilerinin en merak ettiği konulardan biri Staj.Bu konuda bir seri e-buluşma gerçekleştireceğiz ve staj deneyimini bizlerle paylaşacak konuklarımız olacak. \n\n\n\nStaj deneyimini dinleyeceğimiz ilk konuklarımızla gerçekleştireceğimiz e-buluşmaya sizler de katılın.Deneyimli stajyerlerden dinleyin\, sorular sorun\, ilham alın\, hazır olun!❓ Staja Nasıl Hazırlanmalı\, Stajda ne yapmalı\, ne yapmamalı?Eczanede\, hastanede ya da firma stajlarında sizi neler bekliyor?Tüm sorularınız bu buluşmada yanıt buluyor!Eczane\, hastane ve firma stajını deneyimlemiş öğrenciler e-buluşmaya geliyor! \n\n\n\nGerçek deneyimlerden ilham alacağınız e-buluşmaya davetlisiniz! Siz de katılın\, staj yolculuğunuza hazırlıklı başlayın! \n\n\n\n26 Şubat Çarşamba⏰ 20.30Zoom‍ Moderatör: İrem Gürsoy \n\n\n\n✨ Katılım ücretsizdir.
URL:https://eczacilarburada.com/program/stajyer-bulusmalari-1/
CATEGORIES:E-Buluşmalar
ATTACH;FMTTYPE=image/jpeg:https://eczacilarburada.com/wp-content/uploads/2025/04/WhatsApp-Image-2025-02-16-at-20.24.19.jpeg
END:VEVENT
END:VCALENDAR