BEGIN:VCALENDAR
VERSION:2.0
PRODID:-//Eczacılar Burada - ECPv6.11.2.1//NONSGML v1.0//EN
CALSCALE:GREGORIAN
METHOD:PUBLISH
X-ORIGINAL-URL:https://eczacilarburada.com
X-WR-CALDESC:Eczacılar Burada için etkinlikler
REFRESH-INTERVAL;VALUE=DURATION:PT1H
X-Robots-Tag:noindex
X-PUBLISHED-TTL:PT1H
BEGIN:VTIMEZONE
TZID:Europe/Istanbul
BEGIN:STANDARD
TZOFFSETFROM:+0300
TZOFFSETTO:+0300
TZNAME:+03
DTSTART:20250101T000000
END:STANDARD
END:VTIMEZONE
BEGIN:VEVENT
DTSTART;TZID=Europe/Istanbul:20250319T203000
DTEND;TZID=Europe/Istanbul:20250319T203000
DTSTAMP:20260425T171548
CREATED:20250419T221446Z
LAST-MODIFIED:20250422T122028Z
UID:10000027-1742416200-1742416200@eczacilarburada.com
SUMMARY:Ramazanda Sürdürülebilir Beslenme
DESCRIPTION:Oruç tutarken enerjinizi nasıl koruyabileceğinizi\, sahurda ne yeseniz iftarda bayılmadan durabileceğinizi hiç düşündünüz mü?  Ya da “Tatlı krizine girmeden Ramazan geçer mi?” diye kendi kendinize sordunuz mu?  \n\n\n\n Sahurda ne yemeli\, iftarda nasıl denge kurmalı? Tatlı krizlerine sağlıklı çözümler var mı? Tüm sorularınız bu buluşmada yanıt buluyor!Sağlıklı ve sürdürülebilir beslenmenin yollarını keşfedeceğiz! \n\n\n\nKaçırmayın\, sorularınızı hazırlayın. Bu keyifli etkinliğe sizleri de bekliyoruz! \n\n\n\n 19 Mart Çarşamba 20.30 Zoom Moderatör: Hasan Bora Gürkan \n\n\n\n Katılım ücretsizdir.
URL:https://eczacilarburada.com/program/ramazanda-surdurulebilir-beslenme/
CATEGORIES:E-Buluşmalar
ATTACH;FMTTYPE=image/jpeg:https://eczacilarburada.com/wp-content/uploads/2025/04/WhatsApp-Image-2025-03-14-at-13.12.55.jpeg
END:VEVENT
END:VCALENDAR