BEGIN:VCALENDAR
VERSION:2.0
PRODID:-//Eczacılar Burada - ECPv6.11.2.1//NONSGML v1.0//EN
CALSCALE:GREGORIAN
METHOD:PUBLISH
X-WR-CALNAME:Eczacılar Burada
X-ORIGINAL-URL:https://eczacilarburada.com
X-WR-CALDESC:Eczacılar Burada için etkinlikler
REFRESH-INTERVAL;VALUE=DURATION:PT1H
X-Robots-Tag:noindex
X-PUBLISHED-TTL:PT1H
BEGIN:VTIMEZONE
TZID:Europe/Istanbul
BEGIN:STANDARD
TZOFFSETFROM:+0300
TZOFFSETTO:+0300
TZNAME:+03
DTSTART:20250101T000000
END:STANDARD
END:VTIMEZONE
BEGIN:VEVENT
DTSTART;TZID=Europe/Istanbul:20250416T203000
DTEND;TZID=Europe/Istanbul:20250416T203000
DTSTAMP:20260425T154545
CREATED:20250419T221446Z
LAST-MODIFIED:20250422T122018Z
UID:10000026-1744835400-1744835400@eczacilarburada.com
SUMMARY:Eczacılıkta Girişimcilik
DESCRIPTION:Yeni fikirlerle mesleğe yön vermek isteyenler burada mı? Eczacılığı sadece bir meslek olarak değil\, aynı zamanda yaratıcı bir alan olarak gören herkes için bu etkinlik tam yerinde. Fikir geliştirmek\, çözüm üretmek ve kendi yolunu çizen eczacılardan ilham almak isteyenleri bekliyoruz. \n\n\n\nEczacılık alanında fark yaratmak isteyen herkesin katılması gereken bu e-buluşmada\, Prof. Dr. Can Erdem bizlerle olacak. \n\n\n\n Girişimcilik ruhunu nasıl geliştirebilirim? Eczanede inovatif yaklaşımlar mümkün mü? Kariyerime yön verirken nelere dikkat etmeliyim?Tüm bu soruların yanıtlarını gerçek deneyimlerle dinleyeceğiniz buluşmaya davetlisiniz! \n\n\n\n Zoom üzerinden 20.30 Moderatör: Ecz. Ahmet Turhaner Katılım ücretsizdir. \n\n\n\nProf. Dr. Y. Can ERDEM Kimdir?\n\n\n\n1978 senesinde Orta Doğu Teknik Üniversitesi\, İdari İlimler Fakültesi İşletmecilik Bölümünden mezun oldu.  \n\n\n\nAynı sene Türkiye İş Bankası Eğitim Müdürlüğünde çalışmaya başlayan Erdem\, girdiği burs sınavlarında başarılı oldu ve 1979 senesinde Milli Eğitim Bakanlığı tarafından MBA eğitimi almak üzere resmi burslu öğrenci olarak ABD’ne gönderildi. \n\n\n\n1981 senesinde East Carolina Üniversitesinde MBA Programını başarı ile tamamlayan Erdem\, mecburi hizmet yükümlülüğü gereği Türkiye Demir Çelik İşletmeleri Genel Müdürlüğünde çalışmaya başladı. \n\n\n\n1983-1987 Pancar Motor A.Ş. de Pazarlama Müdürü olarak görev yapan Erdem\, yerli dizel motor ürünlerinin İran\, Tunus\, Cezayir gibi ülkelere ihracatı için çalıştı. \n\n\n\n1987-1998 döneminde İlaç sektöründe faaliyet gösteren Sifar-Müderrisoğlu İlaçları A.Ş.\, Fresenius Pharma\, Nutrifarma A.Ş. şirketlerinde Satış-Pazarlama Müdürü olarak üstlendiği iç piyasa faaliyetlerine ek olarak Rusya\, Gürcistan\, Belarus’da ofis açtı\, satış teşkilatları kurdu ve ihalelere katıldı. \n\n\n\n1998 senesinde İlaç sektöründen ayrılan Can Erdem\, General Electric-Tradanet A.Ş. nin Genel Müdürü olarak Elektronik Ticaret sektörünün Türkiye’de yerleşmesinde aktif rol üstlendi. Görev yaptığı dört sene içinde ülkemizde çok sayıda Ticari İşletmeyi tedarikçileri ve dağıtıcıları ile elektronik ortamda buluşturan Erdem\, bu konuda detaylı eğitim ve konferanslar verdi. \n\n\n\n2002 senesinde emekli olan Erdem\, Yeditepe Üniversitesi\, İktisadi ve İdari İlimler Fakültesinde Öğretim Görevlisi olarak çalışırken katıldığı Doktora Programını 2006 da tamamlayarak Yardımcı Doçent\, 2017 de Doçent\, 2023 de Profesör unvanını aldı.  \n\n\n\nHalen Yeditepe ve Bahçeşehir üniversitelerinde Müşteri Deneyim Yönetimi\, Tüketici Davranışları\, Pazarlama\, Uluslararası Pazarlama dersleri veren Erdem “Tüketicilerin Satış Kampanyalarını nasıl algıladıkları” konusunda bir tez yazdı.  \n\n\n\nİstanbul Ticaret Üniversitesi\, Ernst & Young\, Rönesans\, Executrain ve Yürekli &Yürekli şirketlerinde BSH\, THY\, Turkcell\, İş Bankası\, EKU\, Denizbank\, Eczacıbaşı\, Turkon\, Toyota\, Doğuş Grubu\, Türk Telekom\, Vestel vb. kurumlarda dersler veren Can Erdem’in uluslararası kongrelerde basılan çok sayıda makaleye ek olarak 2018 ve 2019 yıllarında ABD ve Türkiye’de basılan iki kitabının isimleri “Customer Experience Management” ve “Müşteri Deneyimi Yönetimi” dir. 
URL:https://eczacilarburada.com/program/eczacilikta-girisimcilik/
CATEGORIES:E-Buluşmalar
ATTACH;FMTTYPE=image/jpeg:https://eczacilarburada.com/wp-content/uploads/2025/04/EBulusma_16Nisan_slider-2.jpg
END:VEVENT
BEGIN:VEVENT
DTSTART;TZID=Europe/Istanbul:20250423T203000
DTEND;TZID=Europe/Istanbul:20250423T203000
DTSTAMP:20260425T154545
CREATED:20250419T221446Z
LAST-MODIFIED:20250422T075215Z
UID:10000002-1745440200-1745440200@eczacilarburada.com
SUMMARY:Sağlık\, Ekonomi ve Eczacılık
DESCRIPTION:İlacı üretirken\, hastaya sunarken ve diğer her aşamada ekonomi ile iç içeyiz. Peki bu denge nasıl kuruluyor? Sağlık sisteminde kaynaklar nasıl yönetiliyor? Bu soruların peşindeysen görüşmek üzere. \n\n\n\nProf. Dr. Zafer Çalışkan ile Türkiye ve dünya gündeminde eczacılığın yerini konuşuyoruz. Ekonomik dalgalanmalar eczacılığı nasıl etkiliyor? Sağlık hizmetlerinde eczacının rolü nedir? Gelecekte bizi neler bekliyor?Merak ettiklerinizi bu buluşmada öğrenin\, güncel bilgilere hakim olun! \n\n\n\n Zoom üzerinden 20.30 Moderatör: Ecz. Ahmet Turhaner Katılım ücretsizdir. \n\n\n\nProf. Dr. Zafer ÇALIŞKAN Kimdir?\n\n\n\nHacettepe Üniversitesi İktisat Bölümü’nden mezun olmuştur. Hastane Ekonomisi alanındaki çalışması ile yine aynı üniversiteden İktisat Doktorasını alan Çalışkan doktora sonrası çalışmaları için Yeni Zelanda’da bir süre misafir öğretim elemanı olarak bulunmuştur.  \n\n\n\nÇalışma alanı Sağlık Ekonomisi ve İlaç Ekonomisi olan Çalışkan son yıllarda ilaç ekonomisi kapsamında Ekonomik Değerlendirme\, Sağlık Teknolojileri Değerlendirme\, Hastalık Yükü\, İlaçta Geri Ödeme ve Fiyatlandırma alanlarında çalışmalarını yoğunlaştırmıştır. Bu çerçevede Sosyal Güvenlik Kurumu’nda Tıbbi ve Ekonomik Değerlendirme Komisyonu (TEDK) üyeliği de yapmıştır. Çalışkan İktisat bölümü ile Sağlık Ekonomisi ve Farmakoekonomi programında İktisada Giriş\, Türkiye Ekonomisi\, Sağlık Ekonomisi\, İlaç Ekonomisi\, Sağlık Teknolojileri Değerlendirme konularında dersler vermektedir. Prof. Dr. Zafer Çalışkan halen İktisat Bölüm Başkanı; Aşı Enstitüsü Müdür Yardımcısı;  Sağlık Ekonomisi ve Farmakoekonomi Anabilim Dalı Başkanı; Sağlık Ekonomisi ve Sağlık Politikası Araştırma ve Uygulama Merkezi Müdürü olarak görev yapmaktadır. Prof. Dr. Zafer Çalışkan aynı zamanda ISPOR Türkiye Başkanlığını\, Sağlık Ekonomisi ve Politikası Derneği (SEPD) Başkanlığını ve Değer Temelli Sağlık Derneği (DETESADER) Genel Sekreterliğini de yürütmektedir.
URL:https://eczacilarburada.com/program/saglik-ekonomi-ve-eczacilik/
CATEGORIES:E-Buluşmalar
ATTACH;FMTTYPE=image/jpeg:https://eczacilarburada.com/wp-content/uploads/2025/04/EBulusma_23Nisan_slider-1.jpg
END:VEVENT
BEGIN:VEVENT
DTSTART;TZID=Europe/Istanbul:20250424T203000
DTEND;TZID=Europe/Istanbul:20250424T203000
DTSTAMP:20260425T154545
CREATED:20250419T221446Z
LAST-MODIFIED:20250422T122001Z
UID:10000025-1745526600-1745526600@eczacilarburada.com
SUMMARY:Diyabet ve Göz Sağlığı
DESCRIPTION:Eczacıların sağlık ekibiyle birlikte hareket ederek tedaviye yön vermesi her geçen gün daha da önemli hâle geliyor.. Klinik düşünme becerilerini geliştirmek isteyenleri aramıza bekliyoruz! \n\n\n\nDr. Öğr. Üyesi A. Nilüfer Köylüoğlu Çelik ile diyabette koruyucu ve klinik yaklaşımları detaylıca konuşacağımız bu e-buluşmaya davetlisiniz. \n\n\n\n Göz sağlığını korumak için neler yapılmalı? Eczacılık açısından diyabete nasıl yaklaşılır? Alanında uzman bir isimden güncel ve pratik bilgiler alabileceğiniz bu buluşmayı kaçırmayın! \n\n\n\n Zoom üzerinden 20.30 Moderatör: Ecz. Ahmet Turhaner Katılım ücretsizdir. \n\n\n\nDr. Öğr. Üyesi A. Nilüfer Köylüoğlu Çelik Kimdir?\n\n\n\nTıp eğitimine 1991 yılında Ege Üniversitesinde başladı\, 1993-1997 yılları arasında İstanbul Üniversitesi İstanbul Tıp Fakültesinde devam etti\, Göz Hastalıkları ihtisasını 2002 yılında İstanbul Üniversitesi Cerrahpaşa Tıp Fakültesinde tamamladı.  \n\n\n\nProf Dr Hüsrev Hatemi’nin teşviki ile 2003 Türkiye Diyabet Cemiyeti\, Diyabet Hastanesinde Retina  \n\n\n\nhastalıkları Uzmanı olarak çalışmaya başladı.  \n\n\n\n2005-2016 yılları arasında görev aldığı Dünyagöz Hastaneler Grubunda Başhekim Yardımcılığı ve Dünyagöz Vakfı Mütevelli Heyeti Üyeliği görevleri esnasında Biyonik Göz\, Dünyadiyabet\, TFF ve TSYD Sporda ve Kafa Travmalarında Retina Sağlığı\, ERN Nadir Hastalıklar\, Orbis Flying Hospital İşbirliği ve Vodafone Teleoftalmoloji projelerini hayata geçirdi.  \n\n\n\n2016-2020 yıllarında Liv Hospital Ulus – İstinye Üniversitesi Tıp Fakültesi Göz Hastalıkları Ana Bilim  \n\n\n\nDalı ve İstinye Üniversitesi Mühendislik Fakültesinde Dr Öğretim Üyesi olarak görev yaptı. \n\n\n\n2018 yılında İstinye Üniversitesi Tıbbi Yapay Zekâ Araştırma Uygulama Merkezini kurdu.  \n\n\n\nHalen diyabet hastalığı ve komplikasyonlarının önlenmesi konusunda teknoloji geliştirme\, kronik hastalık navigasyon sistemi ve dijital ikiz projelerini hayata geçirmek üzere sağlıkta yapay zeka çalışmalarına devam etmektedir.
URL:https://eczacilarburada.com/program/diyabet-ve-goz-sagligi/
CATEGORIES:E-Buluşmalar
ATTACH;FMTTYPE=image/jpeg:https://eczacilarburada.com/wp-content/uploads/2025/04/EBulusma_24Nisan_slider.jpg
END:VEVENT
BEGIN:VEVENT
DTSTART;TZID=Europe/Istanbul:20250430T203000
DTEND;TZID=Europe/Istanbul:20250430T203000
DTSTAMP:20260425T154545
CREATED:20250419T221525Z
LAST-MODIFIED:20250501T054026Z
UID:10000024-1746045000-1746045000@eczacilarburada.com
SUMMARY:Eczacılıkta Mikrobiyota Perspektifi
DESCRIPTION:Bütüncül bakış açısını nasıl uygulayabileceğinizi öğrenmek\, çağdaş yöntemlerle hastalarınıza daha etkili bir şekilde nasıl hizmet verebileceğinizi keşfetmek isterseniz bu buluşma tam size göre! \n\n\n\nEcz. Hacer Pütün ile klinik uygulamalarda bütüncül yaklaşımları konuşacağımız bu oturumda siz de yerinizi alın! \n\n\n\nBütüncül eczacılık ne demek?❓Eczacı olarak hastaya bütüncül nasıl yaklaşılmalıdır?‍ Hastaya yaklaşımda yeni nesil yöntemler neler?Gerçek uygulama örnekleriyle zenginleşen bu e-buluşmada siz de yer alın\, bilgilenin\, ilham alın! \n\n\n\n Zoom üzerinden 20.30 Moderatör: Ecz. Ahmet Turhaner Katılım ücretsizdir. \n\n\n\nEcz. Hacer Pütün Kimdir?\n\n\n\n1969 yılında Ordu’da doğdu. İlk\, orta ve lise eğitimini Ordu’da tamamladı. 1987 yılında İstanbul Üniversitesi (İ.Ü.) Eczacılık Fakültesine girdi ve 1991 yılında mezun oldu. \n\n\n\nKısa bir süre Sandoz İlaç’ta çalıştıktan sonra 1992 yılında İstanbul’da serbest eczacı olarak Esenler’de Birlik Eczanesini açtı. Halen aktif meslek hayatına devam etmektedir.2015 yılında HB Farma’yı kurdu. İ.Ü. Eczacılık Fakültesi Teknoloji Kürsüsü ile proje bazlı ürün geliştirme çalışmaları yaptı. HB Farma\, 2019 yılının Eylül ayında aktif çalışmaya başladı. Şirket bünyesinde 33 adet ruhsatlı gıda ve dermokozmetik ürün bulunmaktadır. \n\n\n\nEvli ve iki çocuk annesidir. Çocuklarından Berk Pütün\, meslektaşı olup şirketi birlikte yönetmektedirler.
URL:https://eczacilarburada.com/program/eczacilikta-mikrobiyota-perspektifi/
CATEGORIES:E-Buluşmalar
ATTACH;FMTTYPE=image/jpeg:https://eczacilarburada.com/wp-content/uploads/2025/04/IMG-20250420-WA0061.jpg
END:VEVENT
END:VCALENDAR