BEGIN:VCALENDAR
VERSION:2.0
PRODID:-//Eczacılar Burada - ECPv6.11.2.1//NONSGML v1.0//EN
CALSCALE:GREGORIAN
METHOD:PUBLISH
X-WR-CALNAME:Eczacılar Burada
X-ORIGINAL-URL:https://eczacilarburada.com
X-WR-CALDESC:Eczacılar Burada için etkinlikler
REFRESH-INTERVAL;VALUE=DURATION:PT1H
X-Robots-Tag:noindex
X-PUBLISHED-TTL:PT1H
BEGIN:VTIMEZONE
TZID:Europe/Istanbul
BEGIN:STANDARD
TZOFFSETFROM:+0300
TZOFFSETTO:+0300
TZNAME:+03
DTSTART:20250101T000000
END:STANDARD
END:VTIMEZONE
BEGIN:VEVENT
DTSTART;TZID=Europe/Istanbul:20250917T203000
DTEND;TZID=Europe/Istanbul:20250917T203000
DTSTAMP:20260425T024623
CREATED:20250906T113838Z
LAST-MODIFIED:20250906T115233Z
UID:10000036-1758141000-1758141000@eczacilarburada.com
SUMMARY:Sağlıklı Deri ve Cilt Tipleri
DESCRIPTION:Eczaneler\, yalnızca ilaç temini yapılan noktalar değil; aynı zamanda bireylerin en sık danıştığı ilk sağlık merkezleridir. Deri sağlığı ve cilt tiplerinin doğru tanımlanması da eczane danışmanlığının en önemli alanlarından biridir. \nBu özel programda\, Acıbadem Üniversitesi Eczacılık Fakültesi’nden Dr. Öğr. Üyesi Yasemin Yağan Uzuner\, eczane eczacılarına yönelik olarak “sağlıklı deri” kavramını\, cilt tiplerini ve günlük pratikte karşılaşılan danışmanlık noktalarını ele alacak. \nKatılımcılar; \n\nSağlıklı deri yapısının temel özelliklerini ve cildin fizyolojisini öğrenecek\,\nCilt tiplerini doğru sınıflandırmayı ve danışanlara uygun ürün önerileri yapabilmeyi keşfedecek\,\nEn sık rastlanan yanlış uygulamaları ve bunların önlenmesine yönelik ipuçlarını edinecek\,\nDermokozmetik ve bakım ürünleri danışmanlığında bilimsel bakış açısını nasıl geliştireceklerini görecekler.\n\n  \nKimler Katılmalı?\nEczanelerinde dermokozmetik danışmanlığı güçlendirmek isteyen\, cilt sağlığı konusunda danışanlarına daha bilinçli rehberlik sunmak isteyen tüm eczane eczacıları bu webinardan büyük fayda sağlayacak. \n  \nKatılım ücretsizdir\, kayıt gereklidir. \nEtkinlik sertifikalıdır. \nModeratör: Aleyna Açar- İznal Özer
URL:https://eczacilarburada.com/program/saglikli-deri-ve-cilt-tipleri/
CATEGORIES:E-Buluşmalar
ATTACH;FMTTYPE=image/jpeg:https://eczacilarburada.com/wp-content/uploads/2025/09/Sagliikli-Deri-ve-Cilt-Tipleri.jpg
END:VEVENT
BEGIN:VEVENT
DTSTART;TZID=Europe/Istanbul:20250924T203000
DTEND;TZID=Europe/Istanbul:20250924T203000
DTSTAMP:20260425T024623
CREATED:20250906T115601Z
LAST-MODIFIED:20250906T115601Z
UID:10000038-1758745800-1758745800@eczacilarburada.com
SUMMARY:Eczacılık ve Yapay Zeka
DESCRIPTION:Yapay zekâ teknolojileri sağlık sektöründe devrim yaratırken\, eczacılık da bu dönüşümden önemli pay alıyor. Eczane pratiğinde danışmanlıktan ilaç yönetimine\, klinik eczacılıktan veri analizine kadar birçok alanda yapay zekâ çözümleri kapımızda. \nBu webinarda\, “Eczacılık ve Yapay Zeka” başlığı altında\, yapay zekânın eczacılık uygulamalarına güncel ve geleceğe yönelik etkileri ele alınacak. \nKatılımcılar: \n\nYapay zekânın ilaç geliştirme\, reçete yönetimi ve danışmanlıkta nasıl kullanıldığını\,\nKlinik karar destek sistemlerinde eczacının rolünü\,\nEczane yönetiminde dijitalleşmenin sunduğu fırsatları\,\nMesleğin geleceğinde eczacı-yapay zekâ iş birliğini öğrenecekler.\n\nKimler Katılmalı?\nMesleğin geleceğini merak eden\, dijital dönüşüm ve yapay zekâya adapte olmak isteyen tüm eczane eczacıları. \nKatılım ücretsizdir\, kayıt gereklidir. \nEtkinlik sertifikalıdır. \nModeratör: Aleyna Açar – Beyza Çetin
URL:https://eczacilarburada.com/program/eczacilik-ve-yapay-zeka/
CATEGORIES:E-Buluşmalar
ATTACH;FMTTYPE=image/jpeg:https://eczacilarburada.com/wp-content/uploads/2025/09/Eczacilik-ve-Yapay-Zeka.jpg
END:VEVENT
BEGIN:VEVENT
DTSTART;TZID=Europe/Istanbul:20250926T203000
DTEND;TZID=Europe/Istanbul:20250926T203000
DTSTAMP:20260425T024623
CREATED:20250906T114657Z
LAST-MODIFIED:20250906T115023Z
UID:10000037-1758918600-1758918600@eczacilarburada.com
SUMMARY:Reçeteden Tedavi Planına: Reçete ve Hasta Gruplarına Genel Yaklaşım
DESCRIPTION:Reçeteler\, eczacının danışanla kurduğu iletişimin ilk adımıdır. Ancak reçeteyi doğru değerlendirmek\, yalnızca ilaç temininden öte; hastanın bütüncül tedavi planına katkı sunmayı da gerektirir. \nBu webinarda\, eczacılar için reçete okuma\, farklı hasta gruplarına yaklaşım ve danışmanlık süreçleri ele alınacak. \nKatılımcılar: \n\nReçete değerlendirmede dikkat edilmesi gereken temel noktaları\,\nPediatrik\, geriatrik ve kronik hastalıklara sahip danışanlara özel yaklaşımları\,\nİlaç-ilaç ve ilaç-besin etkileşimlerini gözden geçirme yollarını\,\nReçeteden danışmanlık planına nasıl geçileceğini öğrenecekler.\n\nKimler Katılmalı?\nHasta iletişimini güçlendirmek ve reçete değerlendirmede daha etkin bir rol almak isteyen tüm eczane eczacıları. \nKatılım ücretsizdir\, kayıt gereklidir. \nEtkinlik sertifikalıdır. \nModeratör: Aleyna Açar
URL:https://eczacilarburada.com/program/receteden-tedavi-planina-recete-ve-hasta-gruplarina-genel-yaklasim/
CATEGORIES:E-Buluşmalar
ATTACH;FMTTYPE=image/jpeg:https://eczacilarburada.com/wp-content/uploads/2025/09/Reçeteden-Tedavi-Planina.jpg
END:VEVENT
END:VCALENDAR