BEGIN:VCALENDAR
VERSION:2.0
PRODID:-//Eczacılar Burada - ECPv6.11.2.1//NONSGML v1.0//EN
CALSCALE:GREGORIAN
METHOD:PUBLISH
X-WR-CALNAME:Eczacılar Burada
X-ORIGINAL-URL:https://eczacilarburada.com
X-WR-CALDESC:Eczacılar Burada için etkinlikler
REFRESH-INTERVAL;VALUE=DURATION:PT1H
X-Robots-Tag:noindex
X-PUBLISHED-TTL:PT1H
BEGIN:VTIMEZONE
TZID:Europe/Istanbul
BEGIN:STANDARD
TZOFFSETFROM:+0300
TZOFFSETTO:+0300
TZNAME:+03
DTSTART:20250101T000000
END:STANDARD
END:VTIMEZONE
BEGIN:VEVENT
DTSTART;TZID=Europe/Istanbul:20251210T203000
DTEND;TZID=Europe/Istanbul:20251210T220000
DTSTAMP:20260424T213114
CREATED:20260209T125550Z
LAST-MODIFIED:20260209T125550Z
UID:10000083-1765398600-1765404000@eczacilarburada.com
SUMMARY:Eczacılıkta Lisansüstü Eğitim: Yüksek Lisans ve Doktora Sürecine Bilimsel Bir Bakış
DESCRIPTION:Tarih: 10.12.2025 20:30 \nModeratör: Ecz. Ahmet Turhaner \nEczacılık alanında akademik yolculuk\, yalnızca bir eğitim süreci değil; araştırma kültürü\, bilimsel üretim ve ulusal–uluslararası iş birlikleriyle şekillenen uzun soluklu bir gelişim hattıdır. Bu yolculuğa başlamayı düşünen ya da merak eden eczacılar için lisansüstü eğitim\, kariyerin yönünü belirleyen en kritik adımlardan biridir. \nProf. Dr. Rahime Şimşek\, Türkiye’nin en köklü eczacılık fakültelerinden birinde uzun yıllardır akademisyen\, danışman\, araştırmacı ve yönetici olarak görev yapan; farmasötik kimya alanındaki uluslararası deneyimi ve akademik üretkenliğiyle tanınan bir bilim insanıdır. Bu oturumda hocamız\, eczacılıkta yüksek lisans ve doktora sürecinin gerçeklerini\, beklentilerini\, fırsatlarını ve kariyer çıktılarıyla ilgili en doğru bilgileri doğrudan deneyimleri üzerinden aktaracaktır. \nKimler Katılmalı? \n\nLisansüstü eğitime başlamayı düşünen eczacılık öğrencileri\nMeslek içinde akademik kariyer planlayan eczacılar\nAraştırma görevliliği\, akademisyenlik veya bilimsel proje süreçlerine ilgi duyanlar\nKlinik\, endüstri\, toksikoloji\, farmasötik kimya\, farmakoloji vb. alanlarda uzmanlaşmak isteyen eczacılar\nFarmasötik araştırmalar ve bilimsel yayın süreçlerine aşina olmak isteyen genç profesyoneller\n\nNeler Öğreneceksiniz? \n\nTürkiye ve dünyada eczacılık alanında lisansüstü eğitime yönelik güncel eğilimler\nEczacılıkta yüksek lisans ve doktora programlarının yapısı\, kapsamı ve beklentileri\nAkademik kariyere başlarken dikkat edilmesi gereken kritik noktalar\nTez seçimi\, danışman–öğrenci ilişkisi ve araştırma süreçlerinin yönetimi\nUlusal ve uluslararası burs\, destek ve değişim programları\nBilimsel yayın\, proje geliştirme ve araştırma kültürünün temelleri\nAkademik kariyerin uzun vadeli avantajları ve mesleki gelişime katkıları\n\nProf. Dr. Rahime Şimşek Kimdir?\nProf. Dr. Rahime Şimşek\, 1993 yılında Hacettepe Üniversitesi Eczacılık Fakültesi’nden mezun olmuş\, aynı fakültenin Farmasötik Kimya Anabilim Dalı’nda 1996 yılında yüksek lisans eğitimini\, 2000 yılında ise doktora eğitimini tamamlamıştır. 2001–2003 yılları arasında Virginia Commonwealth University\, School of Pharmacy\, Department of Medicinal Chemistry-USA’de post-doktora araştırmacısı olarak görev yapmıştır. \n2004 yılında doçent ünvanı alan Prof. Dr. Şimşek\, Hacettepe Üniversitesi Eczacılık Fakültesi Farmasötik Kimya Anabilim Dalı’nda 2004 yılında doçent\, 2010 yılında profesörlüğe atanmıştır. İyi derecede İngilizce bilmektedir. \nHacettepe Üniversitesi Eczacılık Fakültesi’nde lisans ve lisansüstü düzeyde dersler yürütmekte olan Prof. Dr. Şimşek\, aynı zamanda Hacettepe Üniversitesi Tıp Fakültesi (İngilizce) 1. Ders Kurulu’nda öğretim üyesi olarak görev yapmaktadır. Yakın Doğu Üniversitesi Eczacılık Fakültesi’nde (2008–2011)\, Dicle Üniversitesi Eczacılık Fakültesi’nde (2017–2018) ve Lefke Avrupa Üniversitesi Eczacılık Fakültesi’nde (2018–2019) misafir öğretim üyesi olarak bulunmuştur. \nAkademik yaşamı boyunca çeşitli burs ve desteklerden yararlanan Prof. Dr. Şimşek\, TÜBİTAK Yurtiçi Doktora Bursu’nu (1997–2000) ve Virginia Commonwealth University Post-Doc bursunu (2001–2003) almıştır. \nProf. Dr. Şimşek\, yüksek lisans ve doktora düzeyinde birçok öğrenciye tez danışmanlığı yapmıştır. Halen devam etmekte olan iki doktora tezinin danışmanıdır. SCI index kapsamında taranan dergilerde 64\, diğer indekslerde taranan dergilerde 13 bilimsel makalesi\, ulusal ve uluslararası kongrelerde sunulmuş çok sayıda bildirisi\, TÜBİTAK ve Hacettepe Üniversitesi tarafından desteklenen çok sayıda araştırma projesi mevcuttur. \nProf. Dr. Şimşek; Hacettepe Üniversitesi Eczacılık Fakültesi Yönetim Kurulu ve Fakülte Kurulu üyelikleri\, Erasmus Komisyonu üyeliği\, Tanıtım Birim Koordinatörlüğü ve Medya\, İletişim ve Tanıtım Genel Koordinatörlüğü görevlerini üstlenmiştir. Ayrıca Türkiye Doping Kontrol Merkezi Yönetim Kurulu Üyeliği\, Tıp ve Sağlık Hukuku Araştırma Merkezi Yönetim Kurulu Üyeliği\, Türkiye İlaç ve Tıbbi Cihaz Kurumu bünyesinde çeşitli bilimsel danışma kurulu üyelikleri gibi ulusal düzeyde önemli sorumluluklar yürütmektedir. 2024 yılından bu yana Hacettepe Üniversitesi Mezunlarla İletişim Koordinatörü\, 2025 yılından itibaren ise Hacettepe Üniversitesi Eczacılık Fakültesi Farmasötik Kimya Anabilim Dalı Başkanıdır. Ayrıca European Research Center for Drug Discovery and Development (NatSynDrugs) kapsamında 2005 yılından bu yana bilimsel koordinatörlük görevini sürdürmektedir. \nProf. Dr. Rahime Şimşek\, akademik çalışmalarıyla çeşitli ödüllere layık görülmüştür. 1997 yılında düzenlenen First International Symposium on Pharmaceutical Chemistry’de “Best Poster Award” kazanmış; 2007–2008 döneminde ise iki farklı çalışmasıyla Novartis Farmasötik ve Medisinal Kimya İlaç Tasarımı ve Geliştirme Araştırma Ödülü’ne değer görülmüştür. Ayrıca 2008–2009 akademik yılında Hacettepe Üniversitesi Bilim Teşvik Ödülü’nün sahibidir.
URL:https://eczacilarburada.com/program/eczacilikta-lisansustu-egitim-yuksek-lisans-ve-doktora-surecine-bilimsel-bir-bakis/
CATEGORIES:E-Buluşmalar
ATTACH;FMTTYPE=image/jpeg:https://eczacilarburada.com/wp-content/uploads/2026/02/program-banner-10Aralik2025.jpg
END:VEVENT
BEGIN:VEVENT
DTSTART;TZID=Europe/Istanbul:20251217T203000
DTEND;TZID=Europe/Istanbul:20251217T220000
DTSTAMP:20260424T213114
CREATED:20260209T125847Z
LAST-MODIFIED:20260209T125847Z
UID:10000084-1766003400-1766008800@eczacilarburada.com
SUMMARY:Sporcu Takviyelerinde Görünmeyen Riskler: Eczanelerde Doğru Danışmanlık İçin Bilimsel Gerçekler
DESCRIPTION:Tarih: 17.12.2025 20:30 \nModeratör: Ecz. Ahmet Turhaner \nSporcu takviyeleri\, performans ve dayanıklılık artışı beklentisiyle geniş bir kitle tarafından kullanılırken; içerik saflığı\, etkileşimler\, toksik bileşenler ve kontaminasyon gibi kritik güvenlik sorunları çoğu zaman gözden kaçabiliyor. Bu durum\, eczacının danışmanlık rolünü her zamankinden daha önemli hale getiriyor. \nDoç. Dr. Emre Durmaz\, farmasötik toksikoloji alanındaki akademik birikimi ve spor alanında eczacılık deneyimiyle\, sporcu takviyelerinde sıklıkla karşılaşılan görünmez riskleri bilimsel veriler doğrultusunda değerlendirecek. Oturum\, eczane eczacılarının danışmanlık süreçlerinde kullanabilecekleri pratik ve uygulanabilir bilgiler sunacak. \nKimler Katılmalı? \n\nSporcu takviyeleri sunan ve danışmanlığı üstlenen eczacılar\nOTC ve besin destekleri alanında çalışan eczane profesyonelleri\nSporcu sağlığı\, performans destekleri ve toksikoloji konularına ilgi duyan eczacılar\nKlinik eczacılık\, fitoterapi ve sporcu danışmanlığında kendini geliştirmek isteyenler\nEczacılık fakültesi öğrencileri ve genç meslektaşlar\n\nNeler Öğreneceksiniz? \n\nGüncel literatür ışığında gerçek vakalar ve pratik çözüm önerileri\nSporcu takviyelerinde görünmeyen toksikolojik riskler\nPerformans artırıcı ürünlerde kontaminasyon\, yanlış etiketleme ve kalite sorunları\nTakviye–ilaç etkileşimlerinde eczacının dikkat etmesi gereken kritik noktalar\nEczanelerde güvenli ürün seçimi için bilimsel değerlendirme kriterleri\nSporcu müşterilere danışmanlıkta koruyucu ve yönlendirici yaklaşım modelleri\n\nDoç. Dr. Emre Durmaz Kimdir?\nDoç. Dr. Emre Durmaz Gazi Üniversitesi Eczacılık Fakültesi Farmasötik Toksikoloji Anabilim Dalı’nda görev yapmaktadır.  Doktorasını 2009 yılında Farmasötik Toksikoloji alanında tamamlamıştır. Türk Toksikoloji Derneğinde 9 dönem Yönetim Kurulu üyesi olarak görev yapmıştır\, EUROTOX\, IUTOX ve AEO üyesidir. Birçok ulusal ve uluslararası kuruluşta tıbbi cihazlarda biyouyumluluk ve klinik veri değerlendirme alanlarında dış uzman olarak görev yapmış ve yapmaktadır. Başlıca DNA hasarı\, üreme sağlığı\, takviyelerde ve tıbbi cihazlarda güvenlik değerlendirmeleri alanlarında çalışmaktadır. Çok sayıda makale\, atıf ve Farmasötik Toksikoloji alanında yaptırdığı 5 adet tez bulunmaktadır.
URL:https://eczacilarburada.com/program/sporcu-takviyelerinde-gorunmeyen-riskler-eczanelerde-dogru-danismanlik-icin-bilimsel-gercekler/
CATEGORIES:E-Buluşmalar
ATTACH;FMTTYPE=image/jpeg:https://eczacilarburada.com/wp-content/uploads/2026/02/program-banner-17Aralik2025.jpg
END:VEVENT
END:VCALENDAR