BEGIN:VCALENDAR
VERSION:2.0
PRODID:-//Eczacılar Burada - ECPv6.11.2.1//NONSGML v1.0//EN
CALSCALE:GREGORIAN
METHOD:PUBLISH
X-WR-CALNAME:Eczacılar Burada
X-ORIGINAL-URL:https://eczacilarburada.com
X-WR-CALDESC:Eczacılar Burada için etkinlikler
REFRESH-INTERVAL;VALUE=DURATION:PT1H
X-Robots-Tag:noindex
X-PUBLISHED-TTL:PT1H
BEGIN:VTIMEZONE
TZID:Europe/Istanbul
BEGIN:STANDARD
TZOFFSETFROM:+0300
TZOFFSETTO:+0300
TZNAME:+03
DTSTART:20240101T000000
END:STANDARD
END:VTIMEZONE
BEGIN:VEVENT
DTSTART;TZID=Europe/Istanbul:20240821T203000
DTEND;TZID=Europe/Istanbul:20240821T223000
DTSTAMP:20260426T062513
CREATED:20250419T220330Z
LAST-MODIFIED:20250419T220356Z
UID:10000128-1724272200-1724279400@eczacilarburada.com
SUMMARY:Cilt Bakımında Altın Kurallar
DESCRIPTION:21 Ağustos Çarşamba günü 20.30’da gerçekleştirilecek Ecz. Burcu Kiraz ile cilt bakımının temel prensiplerini\, dermokozmetik ürünlerin doğru kullanımını konuşacağımız altın değerindeki etkinliğimize sizler de davetlisiniz!   \n\n\n\nOnline etkinliğimiz Trakya Üniversitesi Eczacılık Fakültesi öğrencisi Aleyna Açar’ın moderatörlüğünde ilerleyecektir.  \n\n\n\nSizleri de kendi aklınızdakibu sorulara cevap bulmaya ve kendinize yeni bilgiler katmaya davet ediyoruz .✨️ \n\n\n\nProgramımıza ücretsiz kaydolmak için etkinlik formunu doldur\, online etkinliği kaçırma! \n\n\n\nProgramda Neler Var?\n\n\n\n\nEczacılığın Toplum Sağlığındaki Rolü \n\n\n\n Sosyal Medya Kullanımı: Dijital Dünyanın Kapılarını Aralayan Araç Sağlık ve Kişisel Bakım Ürünleri \n\n\n\n\n\n Tanıtımında Sosyal Medyanın Gücü \n\n\n\n\n\n Sosyal Medyada İçerik Üretimi: Bilgi Paylaşımında Kalite ve Güvenilirlik \n\n\n\n\n\n Faydalı Kaynaklar ve Uygulamalar: Bilgiye Erişimde Güçlü Araçlar \n\n\n\n\n\n Telefarmasi ve Gelecekte Eczacılık: Dijital Sağlıkta Yeni Ufuklar 
URL:https://eczacilarburada.com/program/cilt-bakiminda-altin-kurallar/
CATEGORIES:E-Buluşmalar
ATTACH;FMTTYPE=image/png:https://eczacilarburada.com/wp-content/uploads/2025/04/Copy-of-Copy-of-Minimal-Photocentric-Productivity-Blog-Banner-2-7.png
END:VEVENT
END:VCALENDAR