BEGIN:VCALENDAR
VERSION:2.0
PRODID:-//Eczacılar Burada - ECPv6.11.2.1//NONSGML v1.0//EN
CALSCALE:GREGORIAN
METHOD:PUBLISH
X-WR-CALNAME:Eczacılar Burada
X-ORIGINAL-URL:https://eczacilarburada.com
X-WR-CALDESC:Eczacılar Burada için etkinlikler
REFRESH-INTERVAL;VALUE=DURATION:PT1H
X-Robots-Tag:noindex
X-PUBLISHED-TTL:PT1H
BEGIN:VTIMEZONE
TZID:Europe/Istanbul
BEGIN:STANDARD
TZOFFSETFROM:+0300
TZOFFSETTO:+0300
TZNAME:+03
DTSTART:20250101T000000
END:STANDARD
END:VTIMEZONE
BEGIN:VEVENT
DTSTART;TZID=Europe/Istanbul:20251015T203000
DTEND;TZID=Europe/Istanbul:20251015T223000
DTSTAMP:20260425T060742
CREATED:20251006T182648Z
LAST-MODIFIED:20251006T182648Z
UID:10000041-1760560200-1760567400@eczacilarburada.com
SUMMARY:Pozitif Sinerjiler / Tıbbi Bitkilerin Konvansiyonel İlaç Tedavilerini Destekleme Potansiyeli
DESCRIPTION:Konuşmacı: Prof. Dr. İlkay Erdoğan Orhan — Lokman Hekim Üniversitesi Eczacılık Fakültesi Dekanı \nModeratörler: Ecz. Ahmet Turhaner – Aleyna Açar \nGeleneksel bitkisel tedaviler ve konvansiyonel ilaçlar\, uzun yıllar boyunca birbirinden ayrı dünyalar olarak görülse de\, günümüzde bu iki alan arasında giderek güçlenen “pozitif sinerji” kavramı dikkat çekiyor. \nProf. Dr. İlkay Erdoğan Orhan bu özel seminerde\, tıbbi bitkilerin modern ilaç tedavilerini nasıl destekleyebileceğini\, hangi koşullarda etkileşime girebileceğini ve eczacıların danışmanlık rolünü hangi düzeyde güçlendirebileceğini bilimsel örneklerle anlatacak. \nNeler Öğreneceksiniz?\n\nTıbbi bitkiler ve konvansiyonel ilaçlar arasındaki sinerjik etkileşim mekanizmaları\nFarmakodinamik ve farmakokinetik düzeyde etkileşim örnekleri\nBilimsel araştırmalarla desteklenen bitki–ilaç kombinasyonları\nKlinik uygulamalarda dikkat edilmesi gereken noktalar\nEczacının danışmanlık rolü ve hasta bilgilendirmesindeki sorumluluklar\n\nKimler Katılabilir?\n\nEczane eczacıları ve klinik eczacılar\nFitoterapi\, farmakognozi veya doğal ürünlerle ilgilenen eczacılar\nEczacılık fakültesi öğrencileri\nİlaç ve bitkisel ürün sektöründe çalışan profesyoneller\nSağlık iletişimi ve bilimsel danışmanlık alanında çalışanlar\n\nSeminer sonunda\, katılımcılar Prof. Dr. İlkay Erdoğan Orhan’a doğrudan sorular yöneltebilecekleri soru-cevap oturumuna katılabilecekler. \nBu oturum\, tıbbi bitkiler ile modern tedavilerin kesişiminde çalışan her eczacı için eşsiz bir öğrenme fırsatı sunacak.
URL:https://eczacilarburada.com/program/pozitif-sinerjiler-tibbi-bitkilerin-konvansiyonel-ilac-tedavilerini-destekleme-potansiyeli/
CATEGORIES:E-Buluşmalar
ATTACH;FMTTYPE=image/jpeg:https://eczacilarburada.com/wp-content/uploads/2025/10/program-banner15-Ekim-2025.jpg
END:VEVENT
END:VCALENDAR