BEGIN:VCALENDAR
VERSION:2.0
PRODID:-//Eczacılar Burada - ECPv6.11.2.1//NONSGML v1.0//EN
CALSCALE:GREGORIAN
METHOD:PUBLISH
X-WR-CALNAME:Eczacılar Burada
X-ORIGINAL-URL:https://eczacilarburada.com
X-WR-CALDESC:Eczacılar Burada için etkinlikler
REFRESH-INTERVAL;VALUE=DURATION:PT1H
X-Robots-Tag:noindex
X-PUBLISHED-TTL:PT1H
BEGIN:VTIMEZONE
TZID:Europe/Istanbul
BEGIN:STANDARD
TZOFFSETFROM:+0300
TZOFFSETTO:+0300
TZNAME:+03
DTSTART:20250101T000000
END:STANDARD
END:VTIMEZONE
BEGIN:VEVENT
DTSTART;TZID=Europe/Istanbul:20251126T203000
DTEND;TZID=Europe/Istanbul:20251126T203000
DTSTAMP:20260425T025011
CREATED:20251103T164400Z
LAST-MODIFIED:20251103T164400Z
UID:10000051-1764189000-1764189000@eczacilarburada.com
SUMMARY:Farmasötik Teknolojide Güncel Yaklaşımlar ve Gelecek Perspektifleri
DESCRIPTION:Sağlık teknolojilerindeki gelişmeler\, eczacılığın bilimsel ve klinik yönünü dönüştürüyor.\nEge Üniversitesi Eczacılık Fakültesi’nden Dr. Öğr. Üyesi Mehmet Ali Ege\, nanobiyosensörlerden non-invaziv ölçüm cihazlarına uzanan yeni nesil sağlık teknolojilerini ve bu yeniliklerin eczacılık pratiğine yansımalarını anlatacak. \nEczacılığın dijital geleceğine birlikte göz atmak için sizleri bu ilham verici webinara bekliyoruz. \nÖğr. Gör. Dr. Mehmet Ali Ege kimdir?\nKısaca\n1995 yılından bu yana Ege Üniversitesi Eczacılık Fakültesi\, Eczacılık Teknolojisi Bölümü’ne bağlı Farmasötik Teknoloji Anabilim Dalı’nda Doktor Öğretim Görevlisi olarak görev yapmaktadır. Akademik kariyeri boyunca farmasötik teknoloji\, eczacılık bilimleri ve sağlık teknolojileri alanlarında yoğunlaşmıştır. Araştırmaları\, özellikle ilaç taşıyıcı sistemler\, formülasyon geliştirme\, in vitro çözünürlük çalışmaları ve botanik veri tabanları gibi konuları kapsamaktadır. \nEğitim Geçmişi\nTüm akademik eğitimini Ege Üniversitesi’nde tamamlamıştır. 1994 yılında Eczacılık Fakültesi’nden mezun olarak lisans derecesini almıştır. Akademik hayatına ara vermeden devam ederek\, 1998 yılında “USP Normlarına Uygun\, Uzatılmış Etkili Teofilin Granülesinin 3³ Faktoriyel Tasarımla Hazırlanması” başlıklı teziyle yüksek lisansını tamamlamıştır. 2007 yılında ise “İn Vitro Çözünürlük Çalışmalarının Bilgisayarla Takibi\, Kontrolü\, Tahmini ve Validasyonu” konulu teziyle bilim doktoru unvanını almıştır. \nAkademik ve Mesleki Deneyim\n1995 yılında Ege Üniversitesi’nde başladığı akademik görevine kesintisiz olarak devam etmektedir. Kariyerinin ilk yıllarında (1994-1998) eczacılara ve eczacılık öğrencilerine yönelik bilgisayar ve ileri ofis uygulamaları üzerine eğitimler vermiştir. Araştırma ve geliştirme faaliyetlerine odaklanarak çok sayıda projede yürütücü ve araştırmacı olarak yer almıştır. \nÖne Çıkan Projeler\n\nEczaneler için Otomatik Alkol Seyreltme Cihazı Hazırlanması (Yükseköğretim Kurumları Destekli\, BAP\, 2024-2025): Alkolün her ilaç ve tedavi yöntemi için değişik oranlarda seyreltilmiş olması gerekmektedir. Bu işi otomatik ve insan kaynaklı hatalardan korumak için cihaz geliştirilmiştir.\nPediatrik İlaç Formülasyonları (TÜBİTAK\, 2022-2024): Acı tada sahip etkin maddelerin pediatrik hastalarda kullanımını kolaylaştırmak amacıyla tat maskeleme teknikleri ve ağızda dağılan tablet formülasyonlarının geliştirilmesi üzerine çalışmıştır.\nNanobiyosensör Geliştirilmesi (TÜSEB\, 2022-2024): Jinekolojik kanserlerin miRNA’lar aracılığıyla teşhisine yönelik akıllı telefon entegrasyonlu bir prototip nanobiyosensör geliştirme projesinde görev almıştır.\nTürkiye’nin Etnobotanik Veritabanı (Yükseköğretim Kurumları Destekli\, BAP\, 2013-2020): Türkiye’nin bitki zenginliğini ve geleneksel kullanım bilgilerini dijital ortama aktaran kapsamlı bir veri tabanı projesini tamamlamıştır.\nGliklazid Nanopartikülleri (Yükseköğretim Kurumları Destekli\, 2012-2018): Tip II diyabet tedavisinde kullanılan gliklazid etkin maddesinin nanopartikül formülasyonlarının hazırlanması ve in vitro değerlendirilmesi üzerine araştırmalar yapmıştır.\nNon-İnvaziv Glukoz Ölçüm Cihazı (TÜBİTAK\, 2005-2008): Kan şekerinin invaziv olmayan yöntemlerle ölçümünü sağlayacak bir elektrokimyasal cihazın donanım ve yazılımlarının tasarımında yer almıştır.\n\nYayınlar ve Sunumlar\nUluslararası hakemli dergilerde (SCI-Expanded\, Scopus) yayımlanmış çok sayıda makalesi bulunmaktadır. Bu yayınlar; lipit bazlı nano emülsiyonlar\, matriks tabletler ve mikroemülsiyon formülasyonları gibi farmasötik teknoloji konularının yanı sıra\, bu çalışmaların analizi ve istatistiksel değerlendirmesi için geliştirdiği yazılımları da içermektedir. Ayrıca\, Türkiye’nin biyoaktif bitkileri üzerine yaptığı çalışmalar ve bu konuda hazırladığı veritabanı yazılımları da dikkat çekmektedir. Ulusal ve uluslararası düzeyde düzenlenen pek çok bilimsel kongre ve sempozyumda poster bildirileri sunmuştur. “Nazal İlaç Uygulamaları” (2018) ve “Hastane Eczacılığı” (2012) gibi kitaplarda bölüm yazarlıkları bulunmaktadır.
URL:https://eczacilarburada.com/program/farmasotik-teknolojide-guncel-yaklasimlar-ve-gelecek-perspektifleri/
CATEGORIES:E-Buluşmalar
ATTACH;FMTTYPE=image/jpeg:https://eczacilarburada.com/wp-content/uploads/2025/11/program-banner-26-Kasim-yeni.jpg
END:VEVENT
END:VCALENDAR