BEGIN:VCALENDAR
VERSION:2.0
PRODID:-//Eczacılar Burada - ECPv6.11.2.1//NONSGML v1.0//EN
CALSCALE:GREGORIAN
METHOD:PUBLISH
X-ORIGINAL-URL:https://eczacilarburada.com
X-WR-CALDESC:Eczacılar Burada için etkinlikler
REFRESH-INTERVAL;VALUE=DURATION:PT1H
X-Robots-Tag:noindex
X-PUBLISHED-TTL:PT1H
BEGIN:VTIMEZONE
TZID:Europe/Istanbul
BEGIN:STANDARD
TZOFFSETFROM:+0300
TZOFFSETTO:+0300
TZNAME:+03
DTSTART:20260101T000000
END:STANDARD
END:VTIMEZONE
BEGIN:VEVENT
DTSTART;TZID=Europe/Istanbul:20260311T203000
DTEND;TZID=Europe/Istanbul:20260311T220000
DTSTAMP:20260424T183512
CREATED:20260305T121120Z
LAST-MODIFIED:20260310T142934Z
UID:10000093-1773261000-1773266400@eczacilarburada.com
SUMMARY:Gıda Takviyelerinin Olası Toksik Etkileri
DESCRIPTION:Gıda takviyeleri\, günümüzde sağlığı destekleme amacıyla yaygın biçimde kullanılmaktadır. Ancak “doğal” veya “bitkisel” olarak tanımlanmaları\, her zaman güvenli oldukları anlamına gelmez. Kontrolsüz kullanım\, yüksek doz uygulamaları\, etkileşimler ve kalite sorunları ciddi toksikolojik riskler doğurabilmektedir. \nBu Çarşamba Toplantıları oturumunda\, Prof. Dr. Ülfet Pınar Erkekoğlu\, gıda takviyelerinin: \n\nOlası hepatotoksik\, nefrotoksik ve nörotoksik etkilerini\nEndokrin bozucu potansiyellerini\nAğır metal ve kontaminant risklerini\nİlaç–takviye etkileşimlerini\nBilimsel risk değerlendirme kriterlerini toksikoloji perspektifinden ele alacaktır.\n\nBilimsel kanıta dayalı\, eczacı merkezli bir bakış açısıyla güvenli kullanım çerçevesi tartışılacaktır. \nKimler Katılmalı?\n\nEczane eczacıları\nKlinik eczacılar\nEndüstride çalışan eczacılar\nFarmasötik toksikoloji alanına ilgi duyan akademisyenler\nLisans ve lisansüstü öğrencileri\nSağlık profesyonelleri\n\nÖzellikle eczane pratiğinde aktif danışmanlık veren meslektaşlarımız için yüksek değerli bir içeriktir. \nNeler Öğreneceksiniz?\n\nEczacının hasta danışmanlığında dikkat etmesi gereken kritik noktalar nelerdir?\n“Doğal ürün = güvenli ürün” algısının bilimsel karşılığı nedir?\nVitamin ve minerallerde toksisite eşikleri nasıl belirlenir?\nBitkisel ürünlerde kontaminasyon ve adulterasyon riskleri nelerdir?\nEndokrin bozucu potansiyel taşıyan bileşenler nelerdir?\nGıda takviyelerinde farmakovijilans ve toksikovijilans yaklaşımı nasıl olmalıdır?
URL:https://eczacilarburada.com/program/gida-takviyelerinin-olasi-toksik-etkileri/
CATEGORIES:E-Buluşmalar
ATTACH;FMTTYPE=image/jpeg:https://eczacilarburada.com/wp-content/uploads/2026/03/program-banner-11Mart-C.jpg
LOCATION:https://eczacilarburada.com/program/gida-takviyelerinin-olasi-toksik-etkileri/
END:VEVENT
END:VCALENDAR