BEGIN:VCALENDAR
VERSION:2.0
PRODID:-//Eczacılar Burada - ECPv6.11.2.1//NONSGML v1.0//EN
CALSCALE:GREGORIAN
METHOD:PUBLISH
X-WR-CALNAME:Eczacılar Burada
X-ORIGINAL-URL:https://eczacilarburada.com
X-WR-CALDESC:Eczacılar Burada için etkinlikler
REFRESH-INTERVAL;VALUE=DURATION:PT1H
X-Robots-Tag:noindex
X-PUBLISHED-TTL:PT1H
BEGIN:VTIMEZONE
TZID:Europe/Istanbul
BEGIN:STANDARD
TZOFFSETFROM:+0300
TZOFFSETTO:+0300
TZNAME:+03
DTSTART:20260101T000000
END:STANDARD
END:VTIMEZONE
BEGIN:VEVENT
DTSTART;TZID=Europe/Istanbul:20260514T203000
DTEND;TZID=Europe/Istanbul:20260514T220000
DTSTAMP:20260424T165054
CREATED:20260117T111132Z
LAST-MODIFIED:20260207T152809Z
UID:10000075-1778790600-1778796000@eczacilarburada.com
SUMMARY:Girişimci
DESCRIPTION:Eczacılar Burada platformu\, eczacılık mesleğinin dönüşen rolünü anlamak\, güçlendirmek ve genişletmek amacıyla “Filmlerle 10 Yıldızlı Eczacı” başlıklı özel bir program düzenliyor. \nBu seminer dizisi\, Dünya Sağlık Örgütü’nün tanımladığı 10-Star Pharmacist modelinde yer alan temel yetkinlikleri sinemanın anlatı gücüyle bir araya getiriyor. Katılımcılar; her seminerde seçilmiş bir filmi birlikte izleyip çözümleyecek\, filmdeki karakter\, olay örgüsü ve çatışmalar üzerinden ilgili mesleki beceriyi derinlemesine değerlendirecek. \nProgram; eczacının yalnızca bir sağlık profesyoneli değil\, aynı zamanda bir iletişimci\, karar verici\, araştırmacı\, eğitmen\, girişimci ve değişim lideri olduğunu hatırlatan disiplinlerarası bir öğrenme deneyimi sunar. \nSeminerler kapsamında: \n\nWHO’nun her bir “yıldız”ı için sinema tarihinden özel bir film ele alınacak\,\nFilm analizleri mesleki yetkinlikler çerçevesinde yapılacak\,\nKatılımcılar; vaka analizi\, grup tartışması ve kısa yansıtma çalışmalarına dahil olacak\,\nAtölye sonunda tüm katılımcılara kişisel gelişim notları ve önerilen okuma/izleme listesi sağlanacaktır.\n\nBu program\, eczacılık mesleğine bütüncül bakış kazandırmak\, yeni dünyada eczacının konumunu yeniden tanımlamak ve mesleki farkındalığı güçlendirmek isteyen tüm meslektaşlarımıza açıktır. \n“10 yıldızlı eczacı” olma yolculuğuna sinemanın ışığında birlikte çıkıyoruz. \nSeminer 9 – ENTREPRENEUR (Girişimci) \n\n\n\n\n\n\n\n\n\nFilm: The Social Network (2010)\nFikir geliştirme\, inovasyon\, rekabet\, ölçekleme ve girişimcilikte karşılaşılan etik ve liderlik sorularını etkileyici bir tempoyla işler.\nAna Temalar: İnovasyon\, ürün geliştirme\, ölçekleme\, risk alma\nTartışma Başlıklar:\n\nEczacılıkta girişimcilik alanları (dijital sağlık\, danışmanlık\, niş hizmetler)\nFikirden modele dönüşüm süreci\n\n\n\n\n\n\n\n\n\n\n\n\n\n\n\n\n\n\n\n\n\n\n\n\n\n\n 
URL:https://eczacilarburada.com/program/girisimci/
CATEGORIES:Seminerler
ATTACH;FMTTYPE=image/jpeg:https://eczacilarburada.com/wp-content/uploads/2026/01/egitim-banner-film-9.jpg
END:VEVENT
END:VCALENDAR